BEGIN:VCALENDAR
VERSION:2.0
PRODID:SchoolNow
CALSCALE:GREGORIAN
BEGIN:VEVENT
UID:8c875ece-d9e9-11ef-b79a-0a58a9feac02
DTSTAMP:20250124T002418Z
SUMMARY:Basketball (Boys V) @ West Side High School - Gary
LOCATION:West Side High School - Gary
URL;VALUE=URI:https://www.tricreek.k12.in.us/lhs/calendar/7360443/basketbal
 l-boys-v-west-side-high-school-gary
DTSTART:20250110T010000Z
DTEND:20250110T030000Z
END:VEVENT
END:VCALENDAR
