BEGIN:VCALENDAR
VERSION:2.0
PRODID:SchoolNow
CALSCALE:GREGORIAN
BEGIN:VEVENT
UID:8c876086-d9e9-11ef-884e-0a58a9feac02
DTSTAMP:20250124T002418Z
SUMMARY:Basketball (Boys V) @ Rensselaer Central High School
LOCATION:Rensselaer Central HS Gym
URL;VALUE=URI:https://www.tricreek.k12.in.us/lhs/calendar/7360445/basketbal
 l-boys-v-rensselaer-central-high-school
DTSTART:20250226T010000Z
DTEND:20250226T021500Z
END:VEVENT
END:VCALENDAR
