BEGIN:VCALENDAR
VERSION:2.0
PRODID:SchoolNow
CALSCALE:GREGORIAN
BEGIN:VEVENT
UID:8c876162-d9e9-11ef-a196-0a58a9feac02
DTSTAMP:20250124T002418Z
SUMMARY:Basketball (Boys V) @ Hebron
LOCATION:Hebron
URL;VALUE=URI:https://www.tricreek.k12.in.us/lhs/calendar/7360446/basketbal
 l-boys-v-hebron
DTSTART:20251210T010000Z
DTEND:20251210T030000Z
END:VEVENT
END:VCALENDAR
