BEGIN:VCALENDAR
VERSION:2.0
PRODID:SchoolNow
CALSCALE:GREGORIAN
BEGIN:VEVENT
UID:8c876234-d9e9-11ef-bedf-0a58a9feac02
DTSTAMP:20250124T002418Z
SUMMARY:Basketball (Boys V) - Whiting High School
LOCATION:Lowell Senior High School
URL;VALUE=URI:https://www.tricreek.k12.in.us/lhs/calendar/7360447/basketbal
 l-boys-v-whiting-high-school
DTSTART:20250212T010000Z
DTEND:20250212T030000Z
END:VEVENT
END:VCALENDAR
