BEGIN:VCALENDAR
VERSION:2.0
PRODID:SchoolNow
CALSCALE:GREGORIAN
BEGIN:VEVENT
UID:8c876310-d9e9-11ef-96c4-0a58a9feac02
DTSTAMP:20250124T002418Z
SUMMARY:Basketball (Boys V) - Boone Grove High School
LOCATION:Lowell Senior High School
URL;VALUE=URI:https://www.tricreek.k12.in.us/lhs/calendar/7360448/basketbal
 l-boys-v-boone-grove-high-school
DTSTART:20241218T010000Z
DTEND:20241218T030000Z
END:VEVENT
END:VCALENDAR
