BEGIN:VCALENDAR
VERSION:2.0
PRODID:SchoolNow
CALSCALE:GREGORIAN
BEGIN:VEVENT
UID:8c8763ec-d9e9-11ef-bd0f-0a58a9feac02
DTSTAMP:20250124T002418Z
SUMMARY:Basketball (Boys V) @ LaPorte Tournament
LOCATION:LaPorte High School
URL;VALUE=URI:https://www.tricreek.k12.in.us/lhs/calendar/7360449/basketbal
 l-boys-v-laporte-tournament
DTSTART:20241227T150000Z
DTEND:20241227T170000Z
END:VEVENT
END:VCALENDAR
