BEGIN:VCALENDAR
VERSION:2.0
PRODID:SchoolNow
CALSCALE:GREGORIAN
BEGIN:VEVENT
UID:8c8764c8-d9e9-11ef-be4b-0a58a9feac02
DTSTAMP:20250124T002418Z
SUMMARY:Basketball (Boys V) - Hebron
LOCATION:Lowell Senior High School
URL;VALUE=URI:https://www.tricreek.k12.in.us/lhs/calendar/7360450/basketbal
 l-boys-v-hebron
DTSTART:20241211T010000Z
DTEND:20241211T030000Z
END:VEVENT
END:VCALENDAR
