BEGIN:VCALENDAR
VERSION:2.0
PRODID:SchoolNow
CALSCALE:GREGORIAN
BEGIN:VEVENT
UID:8c87659a-d9e9-11ef-bd1c-0a58a9feac02
DTSTAMP:20250124T002418Z
SUMMARY:Basketball (Boys V) - Griffith Senior High School
LOCATION:Lowell Senior High School
URL;VALUE=URI:https://www.tricreek.k12.in.us/lhs/calendar/7360451/basketbal
 l-boys-v-griffith-senior-high-school
DTSTART:20251206T010038Z
DTEND:20251206T030038Z
END:VEVENT
END:VCALENDAR
