BEGIN:VCALENDAR
VERSION:2.0
PRODID:SchoolNow
CALSCALE:GREGORIAN
BEGIN:VEVENT
UID:8c876676-d9e9-11ef-9bf6-0a58a9feac02
DTSTAMP:20250124T002418Z
SUMMARY:Basketball (Boys V) @ Wheeler High School
LOCATION:Wheeler High School
URL;VALUE=URI:https://www.tricreek.k12.in.us/lhs/calendar/7360452/basketbal
 l-boys-v-wheeler-high-school
DTSTART:20251203T010000Z
DTEND:20251203T030000Z
END:VEVENT
END:VCALENDAR
