BEGIN:VCALENDAR
VERSION:2.0
PRODID:SchoolNow
CALSCALE:GREGORIAN
BEGIN:VEVENT
UID:8c876748-d9e9-11ef-a1e6-0a58a9feac02
DTSTAMP:20250124T002418Z
SUMMARY:Track & Field (Boys JV) @ NCC JV INVITE
LOCATION:Highland High School
URL;VALUE=URI:https://www.tricreek.k12.in.us/lhs/calendar/7360453/track-fie
 ld-boys-jv-ncc-jv-invite
DTSTART:20250515T214500Z
DTEND:20250515T234500Z
END:VEVENT
END:VCALENDAR
