BEGIN:VCALENDAR
VERSION:2.0
PRODID:SchoolNow
CALSCALE:GREGORIAN
BEGIN:VEVENT
UID:8c8768f6-d9e9-11ef-9f6f-0a58a9feac02
DTSTAMP:20250124T002418Z
SUMMARY:Wrestling (Boys V) - NCC Triangular
LOCATION:Lowell Senior High School
URL;VALUE=URI:https://www.tricreek.k12.in.us/lhs/calendar/7360455/wrestling
 -boys-v-ncc-triangular
DTSTART:20241221T150000Z
DTEND:20241221T170000Z
END:VEVENT
END:VCALENDAR
