BEGIN:VCALENDAR
VERSION:2.0
PRODID:SchoolNow
CALSCALE:GREGORIAN
BEGIN:VEVENT
UID:8c8769c8-d9e9-11ef-a24e-0a58a9feac02
DTSTAMP:20250124T002418Z
SUMMARY:CANCELED - Wrestling (Boys V) @ Hanover Central HS (Lake County Dua
 ls @ Hanover)
LOCATION:Hanover Central Jr-Sr High School
URL;VALUE=URI:https://www.tricreek.k12.in.us/lhs/calendar/7360456/canceled-
 wrestling-boys-v-hanover-central-hs-lake-county-duals-hanover
DTSTART:20250111T150000Z
DTEND:20250111T170000Z
END:VEVENT
END:VCALENDAR
