BEGIN:VCALENDAR
VERSION:2.0
PRODID:SchoolNow
CALSCALE:GREGORIAN
BEGIN:VEVENT
UID:8c876aa4-d9e9-11ef-a339-0a58a9feac02
DTSTAMP:20250124T002418Z
SUMMARY:Wrestling (Boys V) @ Al Smith Varsity Invitational
LOCATION:Mishawaka High School
URL;VALUE=URI:https://www.tricreek.k12.in.us/lhs/calendar/7360457/wrestling
 -boys-v-al-smith-varsity-invitational
DTSTART:20241228T150000Z
DTEND:20241228T170000Z
END:VEVENT
END:VCALENDAR
