BEGIN:VCALENDAR
VERSION:2.0
PRODID:SchoolNow
CALSCALE:GREGORIAN
BEGIN:VEVENT
UID:8c876b8a-d9e9-11ef-835b-0a58a9feac02
DTSTAMP:20250124T002418Z
SUMMARY:Wrestling (Boys V) @ NPHS JV Tournament
LOCATION:New Prairie High School
URL;VALUE=URI:https://www.tricreek.k12.in.us/lhs/calendar/7360458/wrestling
 -boys-v-nphs-jv-tournament
DTSTART:20250125T000002Z
DTEND:20250125T020002Z
END:VEVENT
END:VCALENDAR
