BEGIN:VCALENDAR
VERSION:2.0
PRODID:SchoolNow
CALSCALE:GREGORIAN
BEGIN:VEVENT
UID:8c876c5c-d9e9-11ef-8015-0a58a9feac02
DTSTAMP:20250124T002418Z
SUMMARY:Wrestling (Boys V) - Northwest Crossroads Conference
LOCATION:Lowell Senior High School
URL;VALUE=URI:https://www.tricreek.k12.in.us/lhs/calendar/7360459/wrestling
 -boys-v-northwest-crossroads-conference
DTSTART:20260117T143000Z
DTEND:20260117T163000Z
END:VEVENT
END:VCALENDAR
