BEGIN:VCALENDAR
VERSION:2.0
PRODID:SchoolNow
CALSCALE:GREGORIAN
BEGIN:VEVENT
UID:8c876e0a-d9e9-11ef-9138-0a58a9feac02
DTSTAMP:20250124T002418Z
SUMMARY:Wrestling (Boys V) @ Munster High School
LOCATION:Munster High School
URL;VALUE=URI:https://www.tricreek.k12.in.us/lhs/calendar/7360461/wrestling
 -boys-v-munster-high-school
DTSTART:20260108T003000Z
DTEND:20260108T023000Z
END:VEVENT
END:VCALENDAR
