BEGIN:VCALENDAR
VERSION:2.0
PRODID:SchoolNow
CALSCALE:GREGORIAN
BEGIN:VEVENT
UID:8c876edc-d9e9-11ef-b7a4-0a58a9feac02
DTSTAMP:20250124T002418Z
SUMMARY:Wrestling (Boys V) @ IHSAA Wrestling Sectionals
LOCATION:Crown Point High School
URL;VALUE=URI:https://www.tricreek.k12.in.us/lhs/calendar/7360462/wrestling
 -boys-v-ihsaa-wrestling-sectionals
DTSTART:20250201T150000Z
DTEND:20250201T170000Z
END:VEVENT
END:VCALENDAR
