BEGIN:VCALENDAR
VERSION:2.0
PRODID:SchoolNow
CALSCALE:GREGORIAN
BEGIN:VEVENT
UID:8c877616-d9e9-11ef-b4c2-0a58a9feac02
DTSTAMP:20250124T002418Z
SUMMARY:Wrestling (Boys V) - Rensselaer Central High School
LOCATION:Lowell Senior High School
URL;VALUE=URI:https://www.tricreek.k12.in.us/lhs/calendar/7360463/wrestling
 -boys-v-rensselaer-central-high-school
DTSTART:20250124T003000Z
DTEND:20250124T023000Z
END:VEVENT
END:VCALENDAR
