BEGIN:VCALENDAR
VERSION:2.0
PRODID:SchoolNow
CALSCALE:GREGORIAN
BEGIN:VEVENT
UID:8c877814-d9e9-11ef-9a5b-0a58a9feac02
DTSTAMP:20250124T002418Z
SUMMARY:Wrestling (Boys V) - Hanover Central Jr-Sr High School
LOCATION:Lowell Senior High School
URL;VALUE=URI:https://www.tricreek.k12.in.us/lhs/calendar/7360465/wrestling
 -boys-v-hanover-central-jr-sr-high-school
DTSTART:20250116T003000Z
DTEND:20250116T023000Z
END:VEVENT
END:VCALENDAR
