BEGIN:VCALENDAR
VERSION:2.0
PRODID:SchoolNow
CALSCALE:GREGORIAN
BEGIN:VEVENT
UID:8c877904-d9e9-11ef-965b-0a58a9feac02
DTSTAMP:20250124T002418Z
SUMMARY:Wrestling (Boys V) @ IHSAA Regional
LOCATION:Crown Point High School
URL;VALUE=URI:https://www.tricreek.k12.in.us/lhs/calendar/7360466/wrestling
 -boys-v-ihsaa-regional
DTSTART:20250208T140000Z
DTEND:20250208T160000Z
END:VEVENT
END:VCALENDAR
