BEGIN:VCALENDAR
VERSION:2.0
PRODID:SchoolNow
CALSCALE:GREGORIAN
BEGIN:VEVENT
UID:8c877ada-d9e9-11ef-8dcc-0a58a9feac02
DTSTAMP:20250124T002418Z
SUMMARY:Wrestling (Boys V) - Munster High School
LOCATION:Lowell Senior High School
URL;VALUE=URI:https://www.tricreek.k12.in.us/lhs/calendar/7360468/wrestling
 -boys-v-munster-high-school
DTSTART:20250109T003000Z
DTEND:20250109T023000Z
END:VEVENT
END:VCALENDAR
