BEGIN:VCALENDAR
VERSION:2.0
PRODID:SchoolNow
CALSCALE:GREGORIAN
BEGIN:VEVENT
UID:8c877fbc-d9e9-11ef-a539-0a58a9feac02
DTSTAMP:20250124T002418Z
SUMMARY:Wrestling (Boys V) @ IHSWCA State Duals Invitational
LOCATION:Franklin Community High School
URL;VALUE=URI:https://www.tricreek.k12.in.us/lhs/calendar/7360469/wrestling
 -boys-v-ihswca-state-duals-invitational
DTSTART:20250111T140008Z
DTEND:20250111T160008Z
END:VEVENT
END:VCALENDAR
