BEGIN:VCALENDAR
VERSION:2.0
PRODID:SchoolNow
CALSCALE:GREGORIAN
BEGIN:VEVENT
UID:8c87825a-d9e9-11ef-ae31-0a58a9feac02
DTSTAMP:20250124T002418Z
SUMMARY:Wrestling (Boys V) @ Griffith Senior High School
LOCATION:Griffith Senior High School
URL;VALUE=URI:https://www.tricreek.k12.in.us/lhs/calendar/7360471/wrestling
 -boys-v-griffith-senior-high-school
DTSTART:20241126T003000Z
DTEND:20241126T023000Z
END:VEVENT
END:VCALENDAR
