BEGIN:VCALENDAR
VERSION:2.0
PRODID:SchoolNow
CALSCALE:GREGORIAN
BEGIN:VEVENT
UID:8c878354-d9e9-11ef-9baa-0a58a9feac02
DTSTAMP:20250124T002418Z
SUMMARY:Wrestling (Boys V) @ Highland High School
LOCATION:Highland High School
URL;VALUE=URI:https://www.tricreek.k12.in.us/lhs/calendar/7360472/wrestling
 -boys-v-highland-high-school
DTSTART:20241219T003000Z
DTEND:20241219T023000Z
END:VEVENT
END:VCALENDAR
