BEGIN:VCALENDAR
VERSION:2.0
PRODID:SchoolNow
CALSCALE:GREGORIAN
BEGIN:VEVENT
UID:8c87843a-d9e9-11ef-9a04-0a58a9feac02
DTSTAMP:20250124T002418Z
SUMMARY:Wrestling (Boys V) @ NCC Triangular
LOCATION:Andrean High School
URL;VALUE=URI:https://www.tricreek.k12.in.us/lhs/calendar/7360473/wrestling
 -boys-v-ncc-triangular
DTSTART:20251220T150000Z
DTEND:20251220T170000Z
END:VEVENT
END:VCALENDAR
