BEGIN:VCALENDAR
VERSION:2.0
PRODID:SchoolNow
CALSCALE:GREGORIAN
BEGIN:VEVENT
UID:8c878516-d9e9-11ef-b6d9-0a58a9feac02
DTSTAMP:20250124T002418Z
SUMMARY:Wrestling (Boys V) @ Hobart High School
LOCATION:Hobart High School
URL;VALUE=URI:https://www.tricreek.k12.in.us/lhs/calendar/7360474/wrestling
 -boys-v-hobart-high-school
DTSTART:20241212T003000Z
DTEND:20241212T023000Z
END:VEVENT
END:VCALENDAR
