BEGIN:VCALENDAR
VERSION:2.0
PRODID:SchoolNow
CALSCALE:GREGORIAN
BEGIN:VEVENT
UID:8c8785fc-d9e9-11ef-930f-0a58a9feac02
DTSTAMP:20250124T002418Z
SUMMARY:Wrestling (Boys V) @ Rensselaer Central High School
LOCATION:Rensselaer Central High School
URL;VALUE=URI:https://www.tricreek.k12.in.us/lhs/calendar/7360475/wrestling
 -boys-v-rensselaer-central-high-school
DTSTART:20260122T233000Z
DTEND:20260123T013000Z
END:VEVENT
END:VCALENDAR
