BEGIN:VCALENDAR
VERSION:2.0
PRODID:SchoolNow
CALSCALE:GREGORIAN
BEGIN:VEVENT
UID:8c8786d8-d9e9-11ef-8180-0a58a9feac02
DTSTAMP:20250124T002418Z
SUMMARY:Cheerleading (Girls V/JV) @ ICA Cheer Championship Preliminaries
LOCATION:ICA Cheer Championship Preliminaries
URL;VALUE=URI:https://www.tricreek.k12.in.us/lhs/calendar/7360476/cheerlead
 ing-girls-v-jv-ica-cheer-championship-preliminaries
DTSTART:20241026T170043Z
DTEND:20241026T190043Z
END:VEVENT
END:VCALENDAR
