BEGIN:VCALENDAR
VERSION:2.0
PRODID:SchoolNow
CALSCALE:GREGORIAN
BEGIN:VEVENT
UID:8c8787b4-d9e9-11ef-a45b-0a58a9feac02
DTSTAMP:20250124T002418Z
SUMMARY:Cheerleading (Girls V/JV) @ Indiana Cheer Championship (VAR State F
 inals)
LOCATION:New Castle High School
URL;VALUE=URI:https://www.tricreek.k12.in.us/lhs/calendar/7360477/cheerlead
 ing-girls-v-jv-indiana-cheer-championship-var-state-finals
DTSTART:20241109T193019Z
DTEND:20241109T213019Z
END:VEVENT
END:VCALENDAR
