BEGIN:VCALENDAR
VERSION:2.0
PRODID:SchoolNow
CALSCALE:GREGORIAN
BEGIN:VEVENT
UID:8c878890-d9e9-11ef-a354-0a58a9feac02
DTSTAMP:20250124T002418Z
SUMMARY:Cheerleading (Girls V/JV) @ UCA Hoosier Regional
LOCATION:Hamilton Southeastern High School
URL;VALUE=URI:https://www.tricreek.k12.in.us/lhs/calendar/7360478/cheerlead
 ing-girls-v-jv-uca-hoosier-regional
DTSTART:20241117T180058Z
DTEND:20241117T200058Z
END:VEVENT
END:VCALENDAR
