BEGIN:VCALENDAR
VERSION:2.0
PRODID:SchoolNow
CALSCALE:GREGORIAN
BEGIN:VEVENT
UID:8c87896c-d9e9-11ef-90c2-0a58a9feac02
DTSTAMP:20250124T002418Z
SUMMARY:Cheerleading (Girls V/JV) @ Indiana Cheer Championship (JV-State Fi
 nals)
LOCATION:Warren Central High School
URL;VALUE=URI:https://www.tricreek.k12.in.us/lhs/calendar/7360479/cheerlead
 ing-girls-v-jv-indiana-cheer-championship-jv-state-finals
DTSTART:20241102T173022Z
DTEND:20241102T193022Z
END:VEVENT
END:VCALENDAR
