BEGIN:VCALENDAR
VERSION:2.0
PRODID:SchoolNow
CALSCALE:GREGORIAN
BEGIN:VEVENT
UID:8c878a48-d9e9-11ef-bb37-0a58a9feac02
DTSTAMP:20250124T002418Z
SUMMARY:CANCELED - Wrestling (Boys JV) @ Thomas A Edison Jr-Sr High School 
 - Lake Station
LOCATION:Thomas A Edison Jr-Sr High School - Lake Station
URL;VALUE=URI:https://www.tricreek.k12.in.us/lhs/calendar/7360480/canceled-
 wrestling-boys-jv-thomas-a-edison-jr-sr-high-school-lake-station
DTSTART:20241123T150000Z
DTEND:20241123T170000Z
END:VEVENT
END:VCALENDAR
