BEGIN:VCALENDAR
VERSION:2.0
PRODID:SchoolNow
CALSCALE:GREGORIAN
BEGIN:VEVENT
UID:8c878b24-d9e9-11ef-8cf1-0a58a9feac02
DTSTAMP:20250124T002418Z
SUMMARY:Basketball (Girls V) - Kouts Middle/High School
LOCATION:Lowell Senior High School
URL;VALUE=URI:https://www.tricreek.k12.in.us/lhs/calendar/7360481/basketbal
 l-girls-v-kouts-middle-high-school
DTSTART:20251217T010000Z
DTEND:20251217T030000Z
END:VEVENT
END:VCALENDAR
