BEGIN:VCALENDAR
VERSION:2.0
PRODID:SchoolNow
CALSCALE:GREGORIAN
BEGIN:VEVENT
UID:8c878c00-d9e9-11ef-ae8e-0a58a9feac02
DTSTAMP:20250124T002418Z
SUMMARY:Basketball (Girls V) - Crown Point High School
LOCATION:Lowell Senior High School
URL;VALUE=URI:https://www.tricreek.k12.in.us/lhs/calendar/7360482/basketbal
 l-girls-v-crown-point-high-school
DTSTART:20251203T010000Z
DTEND:20251203T030000Z
END:VEVENT
END:VCALENDAR
