BEGIN:VCALENDAR
VERSION:2.0
PRODID:SchoolNow
CALSCALE:GREGORIAN
BEGIN:VEVENT
UID:8c878d4a-d9e9-11ef-b8e7-0a58a9feac02
DTSTAMP:20250124T002418Z
SUMMARY:CANCELED - Basketball (Girls V) - Illiana Christian High School
LOCATION:Lowell Senior High School
URL;VALUE=URI:https://www.tricreek.k12.in.us/lhs/calendar/7360483/canceled-
 basketball-girls-v-illiana-christian-high-school
DTSTART:20250122T010000Z
DTEND:20250122T030000Z
END:VEVENT
END:VCALENDAR
