BEGIN:VCALENDAR
VERSION:2.0
PRODID:SchoolNow
CALSCALE:GREGORIAN
BEGIN:VEVENT
UID:8c878e1c-d9e9-11ef-a63b-0a58a9feac02
DTSTAMP:20250124T002418Z
SUMMARY:Basketball (Girls V) - IHSAA Sectional
LOCATION:Lowell Senior High School
URL;VALUE=URI:https://www.tricreek.k12.in.us/lhs/calendar/7360484/basketbal
 l-girls-v-ihsaa-sectional
DTSTART:20250205T010042Z
DTEND:20250205T030042Z
END:VEVENT
END:VCALENDAR
