BEGIN:VCALENDAR
VERSION:2.0
PRODID:SchoolNow
CALSCALE:GREGORIAN
BEGIN:VEVENT
UID:8c878eee-d9e9-11ef-96a2-0a58a9feac02
DTSTAMP:20250124T002418Z
SUMMARY:Basketball (Girls V) @ East Chicago Central High School
LOCATION:East Chicago Central High School
URL;VALUE=URI:https://www.tricreek.k12.in.us/lhs/calendar/7360485/basketbal
 l-girls-v-east-chicago-central-high-school
DTSTART:20251115T203000Z
DTEND:20251115T223000Z
END:VEVENT
END:VCALENDAR
