BEGIN:VCALENDAR
VERSION:2.0
PRODID:SchoolNow
CALSCALE:GREGORIAN
BEGIN:VEVENT
UID:8c878fc0-d9e9-11ef-89ae-0a58a9feac02
DTSTAMP:20250124T002418Z
SUMMARY:Basketball (Girls V) @ LaPorte High School
LOCATION:LaPorte High School
URL;VALUE=URI:https://www.tricreek.k12.in.us/lhs/calendar/7360486/basketbal
 l-girls-v-laporte-high-school
DTSTART:20250125T203000Z
DTEND:20250125T223000Z
END:VEVENT
END:VCALENDAR
