BEGIN:VCALENDAR
VERSION:2.0
PRODID:SchoolNow
CALSCALE:GREGORIAN
BEGIN:VEVENT
UID:8ced805a-d9e9-11ef-96ff-0a58a9feac02
DTSTAMP:20250124T002418Z
SUMMARY:Basketball (Girls V) @ CGA Winter Classic
LOCATION:Culver Academies
URL;VALUE=URI:https://www.tricreek.k12.in.us/lhs/calendar/7360487/basketbal
 l-girls-v-cga-winter-classic
DTSTART:20250118T150000Z
DTEND:20250118T170000Z
END:VEVENT
END:VCALENDAR
