BEGIN:VCALENDAR
VERSION:2.0
PRODID:SchoolNow
CALSCALE:GREGORIAN
BEGIN:VEVENT
UID:8ced88e8-d9e9-11ef-9e51-0a58a9feac02
DTSTAMP:20250124T002418Z
SUMMARY:Basketball (Girls V) - North Newton Jr-Sr High School
LOCATION:Lowell Senior High School
URL;VALUE=URI:https://www.tricreek.k12.in.us/lhs/calendar/7360488/basketbal
 l-girls-v-north-newton-jr-sr-high-school
DTSTART:20241109T183000Z
DTEND:20241109T203000Z
END:VEVENT
END:VCALENDAR
