BEGIN:VCALENDAR
VERSION:2.0
PRODID:SchoolNow
CALSCALE:GREGORIAN
BEGIN:VEVENT
UID:8ced8a6e-d9e9-11ef-971b-0a58a9feac02
DTSTAMP:20250124T002418Z
SUMMARY:Basketball (Girls V) @ Rensselaer Central High School
LOCATION:Rensselaer Central HS Gym
URL;VALUE=URI:https://www.tricreek.k12.in.us/lhs/calendar/7360489/basketbal
 l-girls-v-rensselaer-central-high-school
DTSTART:20250131T010000Z
DTEND:20250131T030000Z
END:VEVENT
END:VCALENDAR
