BEGIN:VCALENDAR
VERSION:2.0
PRODID:SchoolNow
CALSCALE:GREGORIAN
BEGIN:VEVENT
UID:8ced8bae-d9e9-11ef-9ed8-0a58a9feac02
DTSTAMP:20250124T002418Z
SUMMARY:Basketball (Girls V) @ Illiana Christian High School
LOCATION:Illiana Christian High School
URL;VALUE=URI:https://www.tricreek.k12.in.us/lhs/calendar/7360490/basketbal
 l-girls-v-illiana-christian-high-school
DTSTART:20260121T010000Z
DTEND:20260121T030000Z
END:VEVENT
END:VCALENDAR
