BEGIN:VCALENDAR
VERSION:2.0
PRODID:SchoolNow
CALSCALE:GREGORIAN
BEGIN:VEVENT
UID:8ced8cd0-d9e9-11ef-bbf7-0a58a9feac02
DTSTAMP:20250124T002418Z
SUMMARY:Basketball (Girls V) - Kankakee Valley High School
LOCATION:Lowell Senior High School
URL;VALUE=URI:https://www.tricreek.k12.in.us/lhs/calendar/7360491/basketbal
 l-girls-v-kankakee-valley-high-school
DTSTART:20241207T010000Z
DTEND:20241207T030000Z
END:VEVENT
END:VCALENDAR
