BEGIN:VCALENDAR
VERSION:2.0
PRODID:SchoolNow
CALSCALE:GREGORIAN
BEGIN:VEVENT
UID:8ced8ff0-d9e9-11ef-8d0d-0a58a9feac02
DTSTAMP:20250124T002418Z
SUMMARY:Basketball (Girls V) @ Kankakee Valley High School
LOCATION:Kankakee Valley High School
URL;VALUE=URI:https://www.tricreek.k12.in.us/lhs/calendar/7360494/basketbal
 l-girls-v-kankakee-valley-high-school
DTSTART:20251206T010000Z
DTEND:20251206T030000Z
END:VEVENT
END:VCALENDAR
