BEGIN:VCALENDAR
VERSION:2.0
PRODID:SchoolNow
CALSCALE:GREGORIAN
BEGIN:VEVENT
UID:8ced94a0-d9e9-11ef-9147-0a58a9feac02
DTSTAMP:20250124T002418Z
SUMMARY:Basketball (Girls V) @ Thomas A Edison Jr-Sr High School - Lake Sta
 tion
LOCATION:Thomas A Edison Jr-Sr High School - Lake Station
URL;VALUE=URI:https://www.tricreek.k12.in.us/lhs/calendar/7360496/basketbal
 l-girls-v-thomas-a-edison-jr-sr-high-school-lake-station
DTSTART:20251028T223000Z
DTEND:20251029T003000Z
END:VEVENT
END:VCALENDAR
