BEGIN:VCALENDAR
VERSION:2.0
PRODID:SchoolNow
CALSCALE:GREGORIAN
BEGIN:VEVENT
UID:8ced9590-d9e9-11ef-90b4-0a58a9feac02
DTSTAMP:20250124T002418Z
SUMMARY:Basketball (Girls V) @ Munster High School
LOCATION:Munster High School
URL;VALUE=URI:https://www.tricreek.k12.in.us/lhs/calendar/7360497/basketbal
 l-girls-v-munster-high-school
DTSTART:20241214T010000Z
DTEND:20241214T020000Z
END:VEVENT
END:VCALENDAR
