BEGIN:VCALENDAR
VERSION:2.0
PRODID:SchoolNow
CALSCALE:GREGORIAN
BEGIN:VEVENT
UID:8ced9680-d9e9-11ef-9843-0a58a9feac02
DTSTAMP:20250124T002418Z
SUMMARY:Basketball (Girls V) - IHSAA Sectional
LOCATION:Lowell Senior High School
URL;VALUE=URI:https://www.tricreek.k12.in.us/lhs/calendar/7360498/basketbal
 l-girls-v-ihsaa-sectional
DTSTART:20250209T000031Z
DTEND:20250209T020031Z
END:VEVENT
END:VCALENDAR
