BEGIN:VCALENDAR
VERSION:2.0
PRODID:SchoolNow
CALSCALE:GREGORIAN
BEGIN:VEVENT
UID:8ced9770-d9e9-11ef-9aed-0a58a9feac02
DTSTAMP:20250124T002418Z
SUMMARY:Basketball (Girls V) - Hebron
LOCATION:Lowell Senior High School
URL;VALUE=URI:https://www.tricreek.k12.in.us/lhs/calendar/7360499/basketbal
 l-girls-v-hebron
DTSTART:20241120T010000Z
DTEND:20241120T030000Z
END:VEVENT
END:VCALENDAR
