BEGIN:VCALENDAR
VERSION:2.0
PRODID:SchoolNow
CALSCALE:GREGORIAN
BEGIN:VEVENT
UID:8ced9a2c-d9e9-11ef-b4c2-0a58a9feac02
DTSTAMP:20250124T002418Z
SUMMARY:Basketball (Girls V) @ Hanover Central Jr-Sr High School
LOCATION:Hanover Central Jr-Sr High School
URL;VALUE=URI:https://www.tricreek.k12.in.us/lhs/calendar/7360500/basketbal
 l-girls-v-hanover-central-jr-sr-high-school
DTSTART:20251126T010000Z
DTEND:20251126T030000Z
END:VEVENT
END:VCALENDAR
