BEGIN:VCALENDAR
VERSION:2.0
PRODID:SchoolNow
CALSCALE:GREGORIAN
BEGIN:VEVENT
UID:8cedb50c-d9e9-11ef-8406-0a58a9feac02
DTSTAMP:20250124T002418Z
SUMMARY:CANCELED - Basketball (Girls V) - Thomas A Edison Jr-Sr High School
  - Lake Station
LOCATION:Lowell Senior High School
URL;VALUE=URI:https://www.tricreek.k12.in.us/lhs/calendar/7360502/canceled-
 basketball-girls-v-thomas-a-edison-jr-sr-high-school-lake-station
DTSTART:20241029T223000Z
DTEND:20241030T003000Z
END:VEVENT
END:VCALENDAR
